BEGIN:VCALENDAR
VERSION:2.0
PRODID:-//Valley Forge Military College - The Military College of Pennsylvania//NONSGML Events//EN
CALSCALE:GREGORIAN
X-WR-CALNAME:Valley Forge Military College - The Military College of Pennsylvania - Events
X-ORIGINAL-URL:https://vfmcollege.edu/events/event/
X-WR-CALDESC:Valley Forge Military College - The Military College of Pennsylvania - Events
BEGIN:VEVENT
UID:20250404T1417Z-1743776248.09-EO-45157-1@127.0.0.1
STATUS:CONFIRMED
DTSTAMP:20260422T105838Z
CREATED:20250224T190107Z
LAST-MODIFIED:20250224T190107Z
DTSTART;VALUE=DATE:20250228
DTEND;VALUE=DATE:20250301
SUMMARY: National Security Symposium
DESCRIPTION: Contact Professor Kennedy at lkennedy@vfmac.edu
X-ALT-DESC;FMTTYPE=text/html: <p class="body-text"><span style="font-weight
 : 400\;">Contact Professor Kennedy at </span><a href="mailto:lkennedy@vfmac
 .edu"><span style="font-weight: 400\;">lkennedy@vfmac.edu</span></a></p>
CATEGORIES:Cyber
ORGANIZER;CN="Michael Blymier":MAILTO:mblymier@vfmac.edu
URL;VALUE=URI:https://vfmcollege.edu/events/event/national-security-symposi
 um/
END:VEVENT
BEGIN:VEVENT
UID:20250404T1417Z-1743776248.12-EO-45158-1@127.0.0.1
STATUS:CONFIRMED
DTSTAMP:20260422T105838Z
CREATED:20250224T190209Z
LAST-MODIFIED:20250224T190232Z
DTSTART;VALUE=DATE:20250430
DTEND;VALUE=DATE:20250501
SUMMARY: Offensive Cyber Operations Training Event
DESCRIPTION: Five hour training and operations activity using DoD’s objecti
 ve to generate insights about cyber threats to identify vulnerabilities in 
 adversary systems.  Hosted on campus by the Cyber Security Forum Initiative
  …
X-ALT-DESC;FMTTYPE=text/html: <p class="body-text"><span style="font-weight
 : 400\;">Five hour training and operations activity using DoD’s objective t
 o generate insights about cyber threats to identify vulnerabilities in adve
 rsary systems.  Hosted on campus by the Cyber Security Forum Initiative</sp
 an></p><p> </p><p class="body-text"><span style="font-weight: 400\;">Contac
 t Professor Kennedy at </span><a href="mailto:lkennedy@vfmac.edu"><span sty
 le="font-weight: 400\;">lkennedy@vfmac.edu</span></a><span style="font-weig
 ht: 400\;"> to register for the event</span></p>
CATEGORIES:Cyber
ORGANIZER;CN="Michael Blymier":MAILTO:mblymier@vfmac.edu
URL;VALUE=URI:https://vfmcollege.edu/events/event/offensive-cyber-operation
 s-training-event/
END:VEVENT
BEGIN:VEVENT
UID:646i602itauk4l35kj2ssg6280@google.com
STATUS:CONFIRMED
DTSTAMP:20260422T105838Z
CREATED:20250717T174116Z
LAST-MODIFIED:20260422T145717Z
DTSTART;TZID=America/New_York:20250816T100000
DTEND;TZID=America/New_York:20250816T120000
SUMMARY: Citizen Leader Plebe Arrival
X-ALT-DESC;FMTTYPE=text/html: 
CATEGORIES:Academic
LOCATION:Eisenhower Hall
GEO:0;0
ORGANIZER;CN="Michael Blymier":MAILTO:mblymier@vfmac.edu
URL;VALUE=URI:https://vfmcollege.edu/events/event/citizen-leader-plebe-arri
 val/
END:VEVENT
BEGIN:VEVENT
UID:63ogbnqv2m9bgl49oqsmqkug1k@google.com
STATUS:CONFIRMED
DTSTAMP:20260422T105838Z
CREATED:20250718T133532Z
LAST-MODIFIED:20260422T145717Z
DTSTART;TZID=America/New_York:20250817T100000
DTEND;TZID=America/New_York:20250817T120000
SUMMARY: ECP/MCAP Plebe Arrival
X-ALT-DESC;FMTTYPE=text/html: 
CATEGORIES:Academic
LOCATION:Eisenhower Hall
GEO:0;0
ORGANIZER;CN="Michael Blymier":MAILTO:mblymier@vfmac.edu
URL;VALUE=URI:https://vfmcollege.edu/events/event/ecp-mcap-plebe-arrival/
END:VEVENT
BEGIN:VEVENT
UID:4tei248ee36fo61kgddqqtvt8g@google.com
STATUS:CONFIRMED
DTSTAMP:20260422T105838Z
CREATED:20250716T184800Z
LAST-MODIFIED:20260422T145717Z
DTSTART;VALUE=DATE:20250825
DTEND;VALUE=DATE:20250827
SUMMARY: First Day of Classes
X-ALT-DESC;FMTTYPE=text/html: 
CATEGORIES:Academic
ORGANIZER;CN="Michael Blymier":MAILTO:mblymier@vfmac.edu
URL;VALUE=URI:https://vfmcollege.edu/events/event/first-day-of-classes/
END:VEVENT
BEGIN:VEVENT
UID:20250404T1417Z-1743776248.14-EO-45159-1@127.0.0.1
STATUS:CONFIRMED
DTSTAMP:20260422T105838Z
CREATED:20250224T190319Z
LAST-MODIFIED:20250224T190319Z
DTSTART;VALUE=DATE:20250827
DTEND;VALUE=DATE:20250828
SUMMARY: Defensive Cyber Operations Training Event
DESCRIPTION: Five hour training using DoD’s goal to build enduring advantag
 es in cyberspace to detect\, analyze\, and respond to malware threats.   Co
 ntact Professor Kennedy at lkennedy@vfmac.edu to register for the …
X-ALT-DESC;FMTTYPE=text/html: <p class="body-text"><span style="font-weight
 : 400\;">Five hour training using DoD’s goal to build enduring advantages i
 n cyberspace to detect\, analyze\, and respond to malware threats.</span></
 p><p> </p><p class="body-text"><span style="font-weight: 400\;">Contact Pro
 fessor Kennedy at </span><a href="mailto:lkennedy@vfmac.edu"><span style="f
 ont-weight: 400\;">lkennedy@vfmac.edu</span></a><span style="font-weight: 4
 00\;"> to register for the event.</span></p>
CATEGORIES:Cyber
ORGANIZER;CN="Michael Blymier":MAILTO:mblymier@vfmac.edu
URL;VALUE=URI:https://vfmcollege.edu/events/event/defensive-cyber-operation
 s-training-event/
END:VEVENT
BEGIN:VEVENT
UID:07e8lsjktc5ukl47men34sekbl@google.com
STATUS:CONFIRMED
DTSTAMP:20260422T105838Z
CREATED:20250717T174116Z
LAST-MODIFIED:20260422T145717Z
DTSTART;TZID=America/New_York:20250827T133000
DTEND;TZID=America/New_York:20250827T153000
SUMMARY: Opening Day Ceremony and Honor Council Induction
DESCRIPTION: The VFMC will have its Opening Day Ceremony\, Honor Council In
 duction and a Star Ceremony.
X-ALT-DESC;FMTTYPE=text/html: <p>The VFMC will have its Opening Day Ceremon
 y\, Honor Council Induction and a Star Ceremony.</p>
CATEGORIES:Academic
LOCATION:Chapel of St. Cornelius the Centurion
GEO:0;0
ORGANIZER;CN="Michael Blymier":MAILTO:mblymier@vfmac.edu
URL;VALUE=URI:https://vfmcollege.edu/events/event/opening-day-ceremony-and-
 honor-council-induction/
END:VEVENT
BEGIN:VEVENT
UID:6b1ppjm5023ee5abk9puf20d9o@google.com
STATUS:CONFIRMED
DTSTAMP:20260422T105838Z
CREATED:20250716T184800Z
LAST-MODIFIED:20260422T145717Z
DTSTART;VALUE=DATE:20250901
DTEND;VALUE=DATE:20250902
SUMMARY: Labor Day Holiday (No Classes)
X-ALT-DESC;FMTTYPE=text/html: 
CATEGORIES:Academic
ORGANIZER;CN="Michael Blymier":MAILTO:mblymier@vfmac.edu
URL;VALUE=URI:https://vfmcollege.edu/events/event/labor-day-holiday-no-clas
 ses/
END:VEVENT
BEGIN:VEVENT
UID:7ii4tv2limhg2391vlks9asg02@google.com
STATUS:CONFIRMED
DTSTAMP:20260422T105838Z
CREATED:20250717T174116Z
LAST-MODIFIED:20260422T145717Z
DTSTART;TZID=America/New_York:20250919T130000
DTEND;TZID=America/New_York:20250919T143000
SUMMARY: Character Development: Frank Vitale ’94C
DESCRIPTION: Frank Vitale ‘94C (September\, Loyalty) LinkedIn President and
  CEO\, Forge Business Solutions\, LLC Civilian Aides to the Secretary of th
 e Army (CASAs) President and Member of the Board of Directors …
X-ALT-DESC;FMTTYPE=text/html: <p dir="ltr"><b>Frank Vitale ‘94C (September\
 , Loyalty)</b></p><p dir="ltr"><a href="https://www.google.com/url?q=https:
 //www.linkedin.com/in/frank-vitale-7700a026/&sa=D&source=calendar&ust=17532
 05075540259&usg=AOvVaw1JrKHM_ssGpZVCDx_PXYGk" target="_blank"><u>LinkedIn</
 u></a></p><p dir="ltr">President and CEO\, Forge Business Solutions\, LLC</
 p><p dir="ltr">Civilian Aides to the Secretary of the Army (CASAs)</p><p di
 r="ltr">President and Member of the Board of Directors of Country Roads Ang
 el Network (CRAN)</p><p dir="ltr"><a href="https://www.google.com/url?q=htt
 ps://forgebz.com/the-book/&sa=D&source=calendar&ust=1753205075540259&usg=AO
 vVaw0kxfSK_-1OAE0hAuzYvbOX" target="_blank"><u>Author\, Forge Ahead</u></a>
 </p>
CATEGORIES:Academic
LOCATION:Chapel of St. Cornelius the Centurion
GEO:0;0
ORGANIZER;CN="Michael Blymier":MAILTO:mblymier@vfmac.edu
URL;VALUE=URI:https://vfmcollege.edu/events/event/character-development-fra
 nk-vitale-94c/
END:VEVENT
BEGIN:VEVENT
UID:20250404T1417Z-1743776248.14-EO-45160-1@127.0.0.1
STATUS:CONFIRMED
DTSTAMP:20260422T105838Z
CREATED:20250224T190440Z
LAST-MODIFIED:20250224T190440Z
DTSTART;VALUE=DATE:20251001
DTEND;VALUE=DATE:20251002
SUMMARY: Offensive Cyber Operations – Capture the Flag
DESCRIPTION: Five hour activity providing an opportunity to explore emergin
 g techniques and strategies to tackle modern cyber challenges.   Registrati
 on will open on September 1.
X-ALT-DESC;FMTTYPE=text/html: <p class="body-text"><span style="font-weight
 : 400\;">Five hour activity providing an opportunity to explore emerging te
 chniques and strategies to tackle modern cyber challenges.</span></p><p> </
 p><p class="body-text"><span style="font-weight: 400\;">Registration will o
 pen on September 1.</span></p>
CATEGORIES:Cyber
ORGANIZER;CN="Michael Blymier":MAILTO:mblymier@vfmac.edu
URL;VALUE=URI:https://vfmcollege.edu/events/event/offensive-cyber-operation
 s-capture-the-flag/
END:VEVENT
BEGIN:VEVENT
UID:50u85pij5d5nc5730b7voqtpo2@google.com
STATUS:CONFIRMED
DTSTAMP:20260422T105838Z
CREATED:20250812T203611Z
LAST-MODIFIED:20260422T145717Z
DTSTART;TZID=America/New_York:20251010T113000
DTEND;TZID=America/New_York:20251010T180000
SUMMARY: Parents’ Open House
X-ALT-DESC;FMTTYPE=text/html: 
CATEGORIES:Academic
ORGANIZER;CN="Michael Blymier":MAILTO:mblymier@vfmac.edu
URL;VALUE=URI:https://vfmcollege.edu/events/event/parents-open-house/
END:VEVENT
BEGIN:VEVENT
UID:5kd469ladjqv2tr2dqi05sd7gu@google.com
STATUS:CONFIRMED
DTSTAMP:20260422T105838Z
CREATED:20250718T131907Z
LAST-MODIFIED:20260422T145717Z
DTSTART;TZID=America/New_York:20251010T130000
DTEND;TZID=America/New_York:20251010T143000
SUMMARY: Character Development: Dave Foster
DESCRIPTION: Dave Foster (October\, Self Discipline) Founder and CEO\, BDP 
 Impact Real Estate Hoover Veteran Fellow 2022-2023
X-ALT-DESC;FMTTYPE=text/html: <p dir="ltr"><b>Dave Foster (October\, Self D
 iscipline)</b></p><p dir="ltr">Founder and CEO\, BDP Impact Real Estate</p>
 <p dir="ltr"><a href="https://www.google.com/url?q=https://www.hoover.org/p
 rofiles/dave-foster%23:~:text%3DDave%2520Foster%2520was%2520previously%2520
 a\,with%2520projects%2520across%2520the%2520country.&sa=D&source=calendar&u
 st=1753276528141784&usg=AOvVaw2kt7VAlLNaf0hzd84JfLMI" target="_blank"><u>Ho
 over Veteran Fellow 2022-2023</u></a></p>
CATEGORIES:Academic
LOCATION:Chapel of St. Cornelius the Centurion
GEO:0;0
ORGANIZER;CN="Michael Blymier":MAILTO:mblymier@vfmac.edu
URL;VALUE=URI:https://vfmcollege.edu/events/event/character-development-dav
 e-foster/
END:VEVENT
BEGIN:VEVENT
UID:0i5ahbup1vjnbgf0keuppr425k@google.com
STATUS:CONFIRMED
DTSTAMP:20260422T105838Z
CREATED:20251103T221845Z
LAST-MODIFIED:20260422T145717Z
DTSTART;TZID=America/New_York:20251113T180000
DTEND;TZID=America/New_York:20251113T200000
SUMMARY: McMaster Speaker Series: Secretary Patrick Murphy
DESCRIPTION: Honorable Patrick J. Murphy (linked to website) Murphy Bio X &
  IG: @patrickmurphypa  Facebook Profile LinkedIn Profile REGISTRATION PAGE:
  https://2025mcmaster-murphy.eventbrite.com 6:00        Doors Open + Guest 
 Seating 6:30   …
X-ALT-DESC;FMTTYPE=text/html: <p dir="ltr">Honorable <a href="https://www.g
 oogle.com/url?q=https://www.patrickjmurphy.com/&sa=D&source=calendar&ust=17
 62639904810345&usg=AOvVaw30hTNIIsEwLbTHjeuSGY86" target="_blank"><b><u>Patr
 ick J. Murphy</u></b></a><b> (linked to website)</b></p><p dir="ltr"><a hre
 f="https://www.google.com/url?q=https://drive.google.com/file/d/1DfBY9z3NdN
 hPAKN4K5bOsvvvvqi8yLyQ/view?usp%3Ddrive_link&sa=D&source=calendar&ust=17626
 39904810345&usg=AOvVaw3btoc_XfmO0apiK46nRTfM" target="_blank"><u>Murphy Bio
 </u></a></p><p dir="ltr">X & IG: @patrickmurphypa </p><p dir="ltr"><a href=
 "https://www.google.com/url?q=https://www.facebook.com/PatrickMurphyPA&sa=D
 &source=calendar&ust=1762639904810345&usg=AOvVaw1rBPlW5Z74peEGZulVNJ67" tar
 get="_blank"><u>Facebook Profile</u></a></p><p dir="ltr"><a href="https://w
 ww.google.com/url?q=https://www.linkedin.com/in/patrickmurphypa/&sa=D&sourc
 e=calendar&ust=1762639904810345&usg=AOvVaw36BhYhjJ5UQ21poZgh8u68" target="_
 blank"><u>LinkedIn Profile</u></a></p><p dir="ltr"></p><p dir="ltr"><b>REGI
 STRATION PAGE: </b><a href="https://www.google.com/url?q=https://2025mcmast
 er-murphy.eventbrite.com&sa=D&source=calendar&ust=1762639904810345&usg=AOvV
 aw2mqGBqbvtAY2JNT44PZrXq" target="_blank"><b><u>https://2025mcmaster-murphy
 .eventbrite.com</u></b></a></p><p dir="ltr"></p><p dir="ltr">6:00        Do
 ors Open + Guest Seating</p><p dir="ltr">6:30        Welcome Remarks + Intr
 o of Speaker      </p><p dir="ltr">6:35        Keynote - Honorable Patrick 
 J. Murphy </p><p dir="ltr">7:00       Audience Q+A</p><p dir="ltr">        
 Moderator: Dr. Robert Smith\, Provost</p><p dir="ltr">       Thank You\, Cl
 osing - Challenge Coin</p><p dir="ltr">7:30pm    Coffee Hour + Networking i
 n Chapel Foyer</p>
CATEGORIES:Academic
LOCATION:Chapel of St. Cornelius the Centurion\, 1001 Eagle Rd\, Wayne\, PA 19087\, 
 USA
GEO:0;0
ORGANIZER;CN="Michael Blymier":MAILTO:mblymier@vfmac.edu
URL;VALUE=URI:https://vfmcollege.edu/events/event/mcmaster-speaker-series-s
 ecretary-patrick-murphy/
END:VEVENT
BEGIN:VEVENT
UID:7cu1fh3f1mtrqnomgbsii9h6l9@google.com
STATUS:CONFIRMED
DTSTAMP:20260422T105838Z
CREATED:20250718T131907Z
LAST-MODIFIED:20260422T145717Z
DTSTART;TZID=America/New_York:20251121T090000
DTEND;TZID=America/New_York:20251121T120000
SUMMARY: Turkey Bowl
DESCRIPTION: Please come out and support and watch the College Cadet&#039\;
 s take on Staff/Faculty during the annual Turkey Bowl. Parents\, Alumni\, a
 nd all are welcome to come out and watch this …
X-ALT-DESC;FMTTYPE=text/html: <p>Please come out and support and watch the 
 College Cadet&#039\;s take on Staff/Faculty during the annual Turkey Bowl. 
 Parents\, Alumni\, and all are welcome to come out and watch this fun footb
 all game as the Staff/Faculty look to repeat as champions for the 4th conse
 cutive year.</p>
CATEGORIES:Academic
ORGANIZER;CN="Michael Blymier":MAILTO:mblymier@vfmac.edu
URL;VALUE=URI:https://vfmcollege.edu/events/event/turkey-bowl/
END:VEVENT
BEGIN:VEVENT
UID:42m6iap5mgdt5rp1p3jb985fn2@google.com
STATUS:CONFIRMED
DTSTAMP:20260422T105838Z
CREATED:20250718T132327Z
LAST-MODIFIED:20260422T145717Z
DTSTART;TZID=America/New_York:20251121T130000
DTEND;TZID=America/New_York:20251122T000000
SUMMARY: Thanksgiving Break Begins
X-ALT-DESC;FMTTYPE=text/html: 
CATEGORIES:Academic
ORGANIZER;CN="Michael Blymier":MAILTO:mblymier@vfmac.edu
URL;VALUE=URI:https://vfmcollege.edu/events/event/thanksgiving-break-begins
 /
END:VEVENT
BEGIN:VEVENT
UID:2nm58a8ndf1o2th34hbif8splr@google.com
STATUS:CONFIRMED
DTSTAMP:20260422T105838Z
CREATED:20250718T132327Z
LAST-MODIFIED:20260422T145717Z
DTSTART;TZID=America/New_York:20251130T100000
DTEND;TZID=America/New_York:20251201T000000
SUMMARY: Thanksgiving Break Ends
X-ALT-DESC;FMTTYPE=text/html: 
CATEGORIES:Academic
ORGANIZER;CN="Michael Blymier":MAILTO:mblymier@vfmac.edu
URL;VALUE=URI:https://vfmcollege.edu/events/event/thanksgiving-break-ends/
END:VEVENT
BEGIN:VEVENT
UID:6h291ucprdotk1rov7jfchfrga@google.com
STATUS:CONFIRMED
DTSTAMP:20260422T105838Z
CREATED:20250716T184800Z
LAST-MODIFIED:20260422T145717Z
DTSTART;VALUE=DATE:20251212
DTEND;VALUE=DATE:20260112
SUMMARY: Winter Break Begins
X-ALT-DESC;FMTTYPE=text/html: 
CATEGORIES:Academic
ORGANIZER;CN="Michael Blymier":MAILTO:mblymier@vfmac.edu
URL;VALUE=URI:https://vfmcollege.edu/events/event/winter-break/
END:VEVENT
BEGIN:VEVENT
UID:4ege4p453cj262mg9gn34ebddl@google.com
STATUS:CONFIRMED
DTSTAMP:20260422T105838Z
CREATED:20250717T175005Z
LAST-MODIFIED:20260422T145717Z
DTSTART;VALUE=DATE:20260111
DTEND;VALUE=DATE:20260112
SUMMARY: Winter Break Ends
X-ALT-DESC;FMTTYPE=text/html: 
CATEGORIES:Academic
ORGANIZER;CN="Michael Blymier":MAILTO:mblymier@vfmac.edu
URL;VALUE=URI:https://vfmcollege.edu/events/event/winter-break-ends/
END:VEVENT
BEGIN:VEVENT
UID:1kgf6n0g5uo9fkf350mftkv1f0@google.com
STATUS:CONFIRMED
DTSTAMP:20260422T105838Z
CREATED:20260105T162005Z
LAST-MODIFIED:20260422T145717Z
DTSTART;TZID=America/New_York:20260116T130000
DTEND;TZID=America/New_York:20260116T150000
SUMMARY: Character Development: MG Steven Hashem\, USA (Ret.)
DESCRIPTION: JANUARY 16TH – SERVICE TO OTHERS  Steven Hashem\, Major Genera
 l\, U.S. Army\, Retired  |  US Army Profile  |  LinkedIn https://patriotfun
 dinc.org/major-general-ret-steven-hashem-did-you-know/ Followed by Pass in 
 Review – details to follow
X-ALT-DESC;FMTTYPE=text/html: <p><b>JANUARY 16TH - SERVICE TO OTHERS </b></
 p><p>Steven Hashem\, Major General\, U.S. Army\, Retired  |  <a href="https
 ://www.google.com/url?q=https://www.usar.army.mil/News/Fact-Sheets/Article/
 587340/steven-hashem/%23:~:text%3DAmbassador%2520Hashem%2520is%2520a%2520de
 corated\,staff%2520assignments%2520around%2520the%2520world.&sa=D&source=ca
 lendar&ust=1768061894056403&usg=AOvVaw3e5yxmzQTlEh8pNgilJjIY" target="_blan
 k"><u>US Army Profile</u></a>  |  <a href="https://www.google.com/url?q=htt
 ps://www.linkedin.com/in/steven-j-hashem-mg-usa-ret-51a3952b/&sa=D&source=c
 alendar&ust=1768061894056403&usg=AOvVaw2b5SxlngK9jtzNuCp8lxwF" target="_bla
 nk"><u>LinkedIn</u></a></p><p><a href="https://www.google.com/url?q=https:/
 /patriotfundinc.org/major-general-ret-steven-hashem-did-you-know/&sa=D&sour
 ce=calendar&ust=1768061894056403&usg=AOvVaw2ve3vcENa7BByPUe6TRF0_" target="
 _blank"><u>https://patriotfundinc.org/major-general-ret-steven-hashem-did-y
 ou-know/</u></a></p><p></p><p>Followed by Pass in Review - details to follo
 w</p>
CATEGORIES:Academic
LOCATION:Chapel of St. Cornelius the Centurion\, 1001 Eagle Rd\, Wayne\, PA 19087\, 
 USA
GEO:0;0
ORGANIZER;CN="Michael Blymier":MAILTO:mblymier@vfmac.edu
URL;VALUE=URI:https://vfmcollege.edu/events/event/character-development-mg-
 steven-hashem-usa-ret/
END:VEVENT
BEGIN:VEVENT
UID:3depu94l3u1r55mq0ujtfbpr1j@google.com
STATUS:CONFIRMED
DTSTAMP:20260422T105838Z
CREATED:20260128T180332Z
LAST-MODIFIED:20260422T145717Z
DTSTART;TZID=America/New_York:20260201T140000
DTEND;TZID=America/New_York:20260201T160000
SUMMARY: Wrestling vs. Penn State-University Park
X-ALT-DESC;FMTTYPE=text/html: 
CATEGORIES:Academic
LOCATION:Price Hall\, 1001 Eagle Rd\, Wayne\, PA 19087\, USA
GEO:0;0
ORGANIZER;CN="Michael Blymier":MAILTO:mblymier@vfmac.edu
URL;VALUE=URI:https://vfmcollege.edu/events/event/wrestling-vs-penn-state-u
 niversity-park/
END:VEVENT
BEGIN:VEVENT
UID:1a7isf2sveiihtsh5snntl27h3@google.com
STATUS:CONFIRMED
DTSTAMP:20260422T105838Z
CREATED:20260128T182742Z
LAST-MODIFIED:20260422T145717Z
DTSTART;TZID=America/New_York:20260206T130000
DTEND;TZID=America/New_York:20260206T140000
SUMMARY: Character Development: LTC Justin Bellman ’99C (Honor)
X-ALT-DESC;FMTTYPE=text/html: 
CATEGORIES:Academic
LOCATION:Chapel of St. Cornelius the Centurion
GEO:0;0
ORGANIZER;CN="Michael Blymier":MAILTO:mblymier@vfmac.edu
URL;VALUE=URI:https://vfmcollege.edu/events/event/character-development-ltc
 -justin-bellman-99c-honor/
END:VEVENT
BEGIN:VEVENT
UID:55uegb1h5tfe5hdqm4ctdg2vi7@google.com
STATUS:CONFIRMED
DTSTAMP:20260422T105838Z
CREATED:20250718T132624Z
LAST-MODIFIED:20260422T145717Z
DTSTART;TZID=America/New_York:20260306T160000
DTEND;TZID=America/New_York:20260315T130000
SUMMARY: Spring Break Begins
X-ALT-DESC;FMTTYPE=text/html: 
CATEGORIES:Academic
ORGANIZER;CN="Michael Blymier":MAILTO:mblymier@vfmac.edu
URL;VALUE=URI:https://vfmcollege.edu/events/event/spring-break-begins/
END:VEVENT
BEGIN:VEVENT
UID:0i6kcll3mo9su4oa1gunrikpri@google.com
STATUS:CONFIRMED
DTSTAMP:20260422T105838Z
CREATED:20250718T132624Z
LAST-MODIFIED:20260422T145717Z
DTSTART;TZID=America/New_York:20260315T130000
DTEND;TZID=America/New_York:20260316T120000
SUMMARY: Spring Break Ends
X-ALT-DESC;FMTTYPE=text/html: 
CATEGORIES:Academic
ORGANIZER;CN="Michael Blymier":MAILTO:mblymier@vfmac.edu
URL;VALUE=URI:https://vfmcollege.edu/events/event/spring-break-ends/
END:VEVENT
BEGIN:VEVENT
UID:1o1u1faeeu50m6lgb2t75p239b@google.com
STATUS:CONFIRMED
DTSTAMP:20260422T105838Z
CREATED:20250718T132812Z
LAST-MODIFIED:20260422T145717Z
DTSTART;VALUE=DATE:20260403
DTEND;VALUE=DATE:20260407
SUMMARY: Easter Break Begins
X-ALT-DESC;FMTTYPE=text/html: 
CATEGORIES:Academic
ORGANIZER;CN="Michael Blymier":MAILTO:mblymier@vfmac.edu
URL;VALUE=URI:https://vfmcollege.edu/events/event/easter-break-begins/
END:VEVENT
BEGIN:VEVENT
UID:4tnfigih0952fv7i8sli8j3o98@google.com
STATUS:CONFIRMED
DTSTAMP:20260422T105838Z
CREATED:20250718T132812Z
LAST-MODIFIED:20260422T145717Z
DTSTART;VALUE=DATE:20260406
DTEND;VALUE=DATE:20260407
SUMMARY: Easter Break Ends
X-ALT-DESC;FMTTYPE=text/html: 
CATEGORIES:Academic
ORGANIZER;CN="Michael Blymier":MAILTO:mblymier@vfmac.edu
URL;VALUE=URI:https://vfmcollege.edu/events/event/easter-break-ends/
END:VEVENT
BEGIN:VEVENT
UID:3dkttsif5d1b052qga6rrpv85h@google.com
STATUS:CONFIRMED
DTSTAMP:20260422T105838Z
CREATED:20260121T185532Z
LAST-MODIFIED:20260422T145717Z
DTSTART;TZID=America/New_York:20260410T090000
DTEND;TZID=America/New_York:20260410T140000
SUMMARY: 4th Annual National Security Symposium
X-ALT-DESC;FMTTYPE=text/html: 
CATEGORIES:Academic
LOCATION:Mellon Hall
GEO:0;0
ORGANIZER;CN="Michael Blymier":MAILTO:mblymier@vfmac.edu
URL;VALUE=URI:https://vfmcollege.edu/events/event/4th-annual-national-secur
 ity-symposium/
END:VEVENT
BEGIN:VEVENT
UID:5ibqn561bqp635prv7ldhdcuqb@google.com
STATUS:CONFIRMED
DTSTAMP:20260422T105838Z
CREATED:20250718T133043Z
LAST-MODIFIED:20260422T145717Z
DTSTART;VALUE=DATE:20260501
DTEND;VALUE=DATE:20260502
SUMMARY: College Freshmen Depart
X-ALT-DESC;FMTTYPE=text/html: 
CATEGORIES:Academic
ORGANIZER;CN="Michael Blymier":MAILTO:mblymier@vfmac.edu
URL;VALUE=URI:https://vfmcollege.edu/events/event/college-freshmen-depart/
END:VEVENT
BEGIN:VEVENT
UID:18969t1euoj3jgrheomcrpqhjl@google.com
STATUS:CONFIRMED
DTSTAMP:20260422T105838Z
CREATED:20250718T133314Z
LAST-MODIFIED:20260422T145717Z
DTSTART;TZID=America/New_York:20260508T130000
DTEND;TZID=America/New_York:20260508T150000
SUMMARY: Family Day
X-ALT-DESC;FMTTYPE=text/html: 
CATEGORIES:Academic
ORGANIZER;CN="Michael Blymier":MAILTO:mblymier@vfmac.edu
URL;VALUE=URI:https://vfmcollege.edu/events/event/family-day/
END:VEVENT
BEGIN:VEVENT
UID:1knhiivptk883sma5pcsqpuksa@google.com
STATUS:CONFIRMED
DTSTAMP:20260422T105838Z
CREATED:20250718T133043Z
LAST-MODIFIED:20260422T145717Z
DTSTART;TZID=America/New_York:20260508T150000
DTEND;TZID=America/New_York:20260508T153000
SUMMARY: Sophomore Awards Convocation
X-ALT-DESC;FMTTYPE=text/html: 
CATEGORIES:Academic
LOCATION:Chapel of St. Cornelius the Centurion
GEO:0;0
ORGANIZER;CN="Michael Blymier":MAILTO:mblymier@vfmac.edu
URL;VALUE=URI:https://vfmcollege.edu/events/event/sophomore-awards-convocat
 ion/
END:VEVENT
BEGIN:VEVENT
UID:01ks3uj50affvvabddqmvueb64@google.com
STATUS:CONFIRMED
DTSTAMP:20260422T105838Z
CREATED:20250718T133043Z
LAST-MODIFIED:20260422T145717Z
DTSTART;TZID=America/New_York:20260509T093000
DTEND;TZID=America/New_York:20260509T103000
SUMMARY: College Commencement Ceremony
X-ALT-DESC;FMTTYPE=text/html: 
CATEGORIES:Academic
LOCATION:Chapel of St. Cornelius the Centurion
GEO:0;0
ORGANIZER;CN="Michael Blymier":MAILTO:mblymier@vfmac.edu
URL;VALUE=URI:https://vfmcollege.edu/events/event/college-commencement-cere
 mony/
END:VEVENT
BEGIN:VEVENT
UID:15j2fuqk3l6qjpoe0l8lg7d4ai@google.com
STATUS:CONFIRMED
DTSTAMP:20260422T105838Z
CREATED:20250718T133143Z
LAST-MODIFIED:20260422T145717Z
DTSTART;TZID=America/New_York:20260509T103000
DTEND;TZID=America/New_York:20260509T113000
SUMMARY: College Commencement Luncheon
X-ALT-DESC;FMTTYPE=text/html: 
CATEGORIES:Academic
LOCATION:Mellon Hall
GEO:0;0
ORGANIZER;CN="Michael Blymier":MAILTO:mblymier@vfmac.edu
URL;VALUE=URI:https://vfmcollege.edu/events/event/college-commencement-lunc
 heon/
END:VEVENT
BEGIN:VEVENT
UID:5ae046hufmrm5tlnb1q8iodr5v@google.com
STATUS:CONFIRMED
DTSTAMP:20260422T105838Z
CREATED:20250718T133143Z
LAST-MODIFIED:20260422T145717Z
DTSTART;TZID=America/New_York:20260509T130000
DTEND;TZID=America/New_York:20260509T150000
SUMMARY: ROTC Commissioning Ceremony
X-ALT-DESC;FMTTYPE=text/html: 
CATEGORIES:Academic
LOCATION:Chapel of St. Cornelius the Centurion
GEO:0;0
ORGANIZER;CN="Michael Blymier":MAILTO:mblymier@vfmac.edu
URL;VALUE=URI:https://vfmcollege.edu/events/event/rotc-commissioning-ceremo
 ny/
END:VEVENT
BEGIN:VTIMEZONE
TZID:America/New_York
BEGIN:STANDARD
TZOFFSETFROM:-0400
TZOFFSETTO:-0500
DTSTART:20241103T060000
TZNAME:EST
END:STANDARD
BEGIN:DAYLIGHT
TZOFFSETFROM:-0500
TZOFFSETTO:-0400
DTSTART:20250309T070000
TZNAME:EDT
END:DAYLIGHT
BEGIN:STANDARD
TZOFFSETFROM:-0400
TZOFFSETTO:-0500
DTSTART:20251102T060000
TZNAME:EST
END:STANDARD
BEGIN:DAYLIGHT
TZOFFSETFROM:-0500
TZOFFSETTO:-0400
DTSTART:20260308T070000
TZNAME:EDT
END:DAYLIGHT
END:VTIMEZONE
END:VCALENDAR
